BEGIN:VCALENDAR
VERSION:2.0
PRODID:-//VfR Simmern - Schwimmen - ECPv6.15.20//NONSGML v1.0//EN
CALSCALE:GREGORIAN
METHOD:PUBLISH
X-WR-CALNAME:VfR Simmern - Schwimmen
X-ORIGINAL-URL:https://schwimmen-vfrsimmern.de
X-WR-CALDESC:Veranstaltungen für VfR Simmern - Schwimmen
REFRESH-INTERVAL;VALUE=DURATION:PT1H
X-Robots-Tag:noindex
X-PUBLISHED-TTL:PT1H
BEGIN:VTIMEZONE
TZID:Europe/Berlin
BEGIN:DAYLIGHT
TZOFFSETFROM:+0100
TZOFFSETTO:+0200
TZNAME:CEST
DTSTART:20250330T010000
END:DAYLIGHT
BEGIN:STANDARD
TZOFFSETFROM:+0200
TZOFFSETTO:+0100
TZNAME:CET
DTSTART:20251026T010000
END:STANDARD
BEGIN:DAYLIGHT
TZOFFSETFROM:+0100
TZOFFSETTO:+0200
TZNAME:CEST
DTSTART:20260329T010000
END:DAYLIGHT
BEGIN:STANDARD
TZOFFSETFROM:+0200
TZOFFSETTO:+0100
TZNAME:CET
DTSTART:20261025T010000
END:STANDARD
BEGIN:DAYLIGHT
TZOFFSETFROM:+0100
TZOFFSETTO:+0200
TZNAME:CEST
DTSTART:20270328T010000
END:DAYLIGHT
BEGIN:STANDARD
TZOFFSETFROM:+0200
TZOFFSETTO:+0100
TZNAME:CET
DTSTART:20271031T010000
END:STANDARD
END:VTIMEZONE
BEGIN:VEVENT
DTSTART;VALUE=DATE:20260423
DTEND;VALUE=DATE:20260427
DTSTAMP:20260424T121809
CREATED:20250730T141752Z
LAST-MODIFIED:20251117T203618Z
UID:6276-1776902400-1777247999@schwimmen-vfrsimmern.de
SUMMARY:137. Deutsche Meisterschaften im Schwimmen
DESCRIPTION:
URL:https://schwimmen-vfrsimmern.de/index.php/event/137-deutsche-meisterschaften-im-schwimmen/
LOCATION:Berlin
CATEGORIES:Meisterschaften
ATTACH;FMTTYPE=image/png:https://schwimmen-vfrsimmern.de/wp-content/uploads/2025/07/DSV-Logo_original.png
END:VEVENT
BEGIN:VEVENT
DTSTART;TZID=Europe/Berlin:20260426T110000
DTEND;TZID=Europe/Berlin:20260426T170000
DTSTAMP:20260424T121809
CREATED:20260315T133443Z
LAST-MODIFIED:20260315T133443Z
UID:6834-1777201200-1777222800@schwimmen-vfrsimmern.de
SUMMARY:Frühjahrswanderung
DESCRIPTION:EinladungFrühjahrswanderungo.QJ
URL:https://schwimmen-vfrsimmern.de/index.php/event/fruehjahrswanderung/
LOCATION:Hunsrückbad Simmern\, Schulstraße 7\, Hunsrückbad Simmern\, 55469\, Deutschland
CATEGORIES:Interne Veranstaltungen,Sonstige Veranstaltung
ATTACH;FMTTYPE=image/jpeg:https://schwimmen-vfrsimmern.de/wp-content/uploads/2026/03/EinladungFruehjahrswanderungo.QJ_.jpg
END:VEVENT
BEGIN:VEVENT
DTSTART;VALUE=DATE:20260509
DTEND;VALUE=DATE:20260511
DTSTAMP:20260424T121809
CREATED:20260117T183051Z
LAST-MODIFIED:20260117T183349Z
UID:6740-1778284800-1778457599@schwimmen-vfrsimmern.de
SUMMARY:Stadtwerke Cup Bad Kreuznach
DESCRIPTION:
URL:https://schwimmen-vfrsimmern.de/index.php/event/stadtwerke-cup-bad-kreuznach-2/
LOCATION:Bad Kreuznach\, Saline Theodorshalle 17\, Bad Kreuznach\, 55543\, Deutschland
CATEGORIES:Nachwuchsschwimmfest,Wettkampf
END:VEVENT
BEGIN:VEVENT
DTSTART;TZID=Europe/Berlin:20260511T190000
DTEND;TZID=Europe/Berlin:20260511T210000
DTSTAMP:20260424T121809
CREATED:20260216T201904Z
LAST-MODIFIED:20260216T201904Z
UID:6803-1778526000-1778533200@schwimmen-vfrsimmern.de
SUMMARY:Mitgliederversammlung Schwimmabteilung VfR
DESCRIPTION:
URL:https://schwimmen-vfrsimmern.de/index.php/event/mitgliederversammlung-schwimmabteilung-vfr/
LOCATION:Vereinsheim VfR 1921 e.V. Simmern\, Holzbacher Str.\, Simmern\, 55469
CATEGORIES:Interne Veranstaltungen
END:VEVENT
BEGIN:VEVENT
DTSTART;VALUE=DATE:20260517
DTEND;VALUE=DATE:20260518
DTSTAMP:20260424T121809
CREATED:20260117T183830Z
LAST-MODIFIED:20260117T183903Z
UID:6745-1778976000-1779062399@schwimmen-vfrsimmern.de
SUMMARY:50. Rhein-Nahe-Eck Schwimmfest
DESCRIPTION:AusschreibungAusschreibung
URL:https://schwimmen-vfrsimmern.de/index.php/event/50-rhein-nahe-eck-schwimmfest/
LOCATION:Gau Algesheim\, Binger Str. 99\, Gau-Algesheim\, 55435\, Germany
CATEGORIES:Nachwuchsschwimmfest,Wettkampf
END:VEVENT
BEGIN:VEVENT
DTSTART;VALUE=DATE:20260530
DTEND;VALUE=DATE:20260601
DTSTAMP:20260424T121809
CREATED:20260117T184204Z
LAST-MODIFIED:20260216T203513Z
UID:6749-1780099200-1780271999@schwimmen-vfrsimmern.de
SUMMARY:43. Peter und Paul Schwimmfest Trier
DESCRIPTION:AusschreibungAusschreibungAusschreibung
URL:https://schwimmen-vfrsimmern.de/index.php/event/43-peter-und-paul-schwimmfest/
LOCATION:Trier Freibad Nord\, Zurmaiener Str. 122\, Trier\, 54292
CATEGORIES:Nachwuchsschwimmfest,Wettkampf
ORGANIZER;CN="SSV Trier 1932 e.V.":MAILTO:https://www.ssv-trier.de/
END:VEVENT
BEGIN:VEVENT
DTSTART;VALUE=DATE:20260620
DTEND;VALUE=DATE:20260622
DTSTAMP:20260424T121809
CREATED:20260117T184824Z
LAST-MODIFIED:20260212T191441Z
UID:6755-1781913600-1782086399@schwimmen-vfrsimmern.de
SUMMARY:Rheinland-Meisterschaften
DESCRIPTION:Es gelten Pflichtzeiten
URL:https://schwimmen-vfrsimmern.de/index.php/event/rheinland-meisterschaften-3/
LOCATION:Trier Freibad Nord\, Zurmaiener Str. 122\, Trier\, 54292
CATEGORIES:Meisterschaften
END:VEVENT
BEGIN:VEVENT
DTSTART;TZID=Europe/Berlin:20260815T170000
DTEND;TZID=Europe/Berlin:20260815T220000
DTSTAMP:20260424T121809
CREATED:20251117T202551Z
LAST-MODIFIED:20251117T203515Z
UID:6615-1786813200-1786831200@schwimmen-vfrsimmern.de
SUMMARY:Grillfest
DESCRIPTION:Wir freuen uns auf unser Grillfest für die ganze Familie am Schmiedelpark!
URL:https://schwimmen-vfrsimmern.de/index.php/event/grillfest-2/
LOCATION:Grillhütte Schmiedelpark\, Schmiedel 16\, Nannhausen\, 55469
CATEGORIES:Interne Veranstaltungen
END:VEVENT
BEGIN:VEVENT
DTSTART;TZID=Europe/Berlin:20260919T080000
DTEND;TZID=Europe/Berlin:20260920T190000
DTSTAMP:20260424T121809
CREATED:20251117T202758Z
LAST-MODIFIED:20251117T203654Z
UID:6617-1789804800-1789930800@schwimmen-vfrsimmern.de
SUMMARY:Schinderhannes-Schwimmfest
DESCRIPTION:
URL:https://schwimmen-vfrsimmern.de/index.php/event/schinderhannes-schwimmfest-2/
LOCATION:Hunsrückbad Simmern\, Schulstraße 7\, Hunsrückbad Simmern\, 55469\, Deutschland
CATEGORIES:Nachwuchsschwimmfest,Wettkampf
END:VEVENT
BEGIN:VEVENT
DTSTART;VALUE=DATE:20261003
DTEND;VALUE=DATE:20261011
DTSTAMP:20260424T121809
CREATED:20251117T203449Z
LAST-MODIFIED:20251117T203449Z
UID:6621-1790985600-1791676799@schwimmen-vfrsimmern.de
SUMMARY:Trainingslager Italien
DESCRIPTION:Die Einladungen werden persönlich versendet.
URL:https://schwimmen-vfrsimmern.de/index.php/event/trainingslager-italien/
LOCATION:POGGIO ALL’AGNELLO. ITALIEN
CATEGORIES:Interne Veranstaltungen
END:VEVENT
END:VCALENDAR